BEGIN:VCALENDAR
VERSION:2.0
PRODID:-//InvisionCommunity Events 4.7.20//EN
METHOD:PUBLISH
CALSCALE:GREGORIAN
REFRESH-INTERVAL:PT15M
X-PUBLISHED-TTL:PT15M
X-WR-CALNAME:Community Calendar
NAME:Community Calendar
BEGIN:VTIMEZONE
TZID:Europe/London
TZURL:http://tzurl.org/zoneinfo/Europe/London
X-LIC-LOCATION:Europe/London
BEGIN:DAYLIGHT
TZOFFSETFROM:+0000
TZOFFSETTO:+0100
TZNAME:BST
DTSTART:20180325T020000Z
RRULE:FREQ=YEARLY;BYMONTH=3;BYDAY=-1SU
END:DAYLIGHT
BEGIN:STANDARD
TZOFFSETFROM:+0100
TZOFFSETTO:+0000
TZNAME:GMT
DTSTART:20181028T020000Z
RRULE:FREQ=YEARLY;BYMONTH=10;BYDAY=-1SU
END:STANDARD
END:VTIMEZONE
BEGIN:VEVENT
SUMMARY:JSE Power Hour: When does the bear market arrive?
DTSTAMP:20181025T202041Z
SEQUENCE:0
UID:19-1-ccf637f1af22c53773ea3e3b1495b580@platinumwealth.co.za
ORGANIZER;CN="Spreadsheet Ranger":info@platinumwealth.co.za
DESCRIPTION:\n\n	Last month the S&amp\;P500 extended its bull market str
	eak to the longest ever. Having bottomed on 9 March 2009 the index has not
	 had a single 20% pullback in over nine years – a staggering achievement
	.\n\n\n\n	 \n\n\n\n	But as surely as night follows day a bear market will
	 follow a bull market and in this JSE Power Hour Simon Brown\, founder of 
	Just One Lap\, will look at what could trigger a bear market locally and i
	nternationally.\n\n\n\n	 \n\n\n\n	He will also discuss how we survive a b
	ear market. How we position our portfolio ahead of the bear and what to do
	 while the bear is running free.\n\n
DTSTART:20181101T150000Z
DTEND:20181101T163000Z
END:VEVENT
END:VCALENDAR
